BEGIN:VCALENDAR
VERSION:2.0
PRODID:-//87.118.90.70//NONSGML kigkonsult.se iCalcreator 2.20//
CALSCALE:GREGORIAN
METHOD:PUBLISH
X-WR-TIMEZONE:Europe/Berlin
BEGIN:VEVENT
UID:event364@ DBM e.V
DTSTAMP:20260423T134507Z
CATEGORIES:Termine DBM e.V.
DESCRIPTION:AG`s Med.-therap. Selbstständige & Präv.\nKategorie: Termine DB
 M e.V.\nICS-Link: https://www.motopaedie-verband.de/index.php?option=com_j
 em&view=event&id=364:ag`s-med-therap-selbstständige-präv\n
DTSTART;TZID=Europe/Berlin:20230812T100000
DTEND;TZID=Europe/Berlin:20230812T150000
SUMMARY:AG`s Med.-therap. Selbstständige & Präv.
END:VEVENT
END:VCALENDAR
